BEGIN:VCALENDAR
VERSION:2.0
PRODID:-//Victorian Opioid Management ECHO - ECPv5.3.2.1//NONSGML v1.0//EN
CALSCALE:GREGORIAN
METHOD:PUBLISH
X-WR-CALNAME:Victorian Opioid Management ECHO
X-ORIGINAL-URL:https://echo.pabn.org.au
X-WR-CALDESC:Events for Victorian Opioid Management ECHO
BEGIN:VTIMEZONE
TZID:Australia/Melbourne
BEGIN:STANDARD
TZOFFSETFROM:+1100
TZOFFSETTO:+1000
TZNAME:AEST
DTSTART:20210403T160000
END:STANDARD
BEGIN:DAYLIGHT
TZOFFSETFROM:+1000
TZOFFSETTO:+1100
TZNAME:AEDT
DTSTART:20211002T160000
END:DAYLIGHT
END:VTIMEZONE
BEGIN:VEVENT
DTSTART;TZID=Australia/Melbourne:20210303T073000
DTEND;TZID=Australia/Melbourne:20210303T083000
DTSTAMP:20210224T131953
CREATED:20210125T100728Z
LAST-MODIFIED:20210125T100728Z
UID:49873-1614756600-1614760200@echo.pabn.org.au
SUMMARY:Trauma and OUD
DESCRIPTION:
URL:https://echo.pabn.org.au/teleecho-event/trauma-and-oud/
LOCATION:Zoom teleECHO
ORGANIZER;CN="Victorian%20Opioid%20Management%20ECHO":MAILTO:echo@pabn.org.au
END:VEVENT
BEGIN:VEVENT
DTSTART;TZID=Australia/Melbourne:20210310T073000
DTEND;TZID=Australia/Melbourne:20210310T083000
DTSTAMP:20210224T131953
CREATED:20210125T100812Z
LAST-MODIFIED:20210125T100812Z
UID:49874-1615361400-1615365000@echo.pabn.org.au
SUMMARY:High dose methadone transfer to LAIB
DESCRIPTION:
URL:https://echo.pabn.org.au/teleecho-event/high-dose-methadone-transfer-to-laib/
LOCATION:Zoom teleECHO
ORGANIZER;CN="Victorian%20Opioid%20Management%20ECHO":MAILTO:echo@pabn.org.au
END:VEVENT
BEGIN:VEVENT
DTSTART;TZID=Australia/Melbourne:20210317T073000
DTEND;TZID=Australia/Melbourne:20210317T083000
DTSTAMP:20210224T131954
CREATED:20210125T100901Z
LAST-MODIFIED:20210125T100901Z
UID:49875-1615966200-1615969800@echo.pabn.org.au
SUMMARY:OAT for patients with chronic pain
DESCRIPTION:
URL:https://echo.pabn.org.au/teleecho-event/oat-for-patients-with-chronic-pain/
LOCATION:Zoom teleECHO
ORGANIZER;CN="Victorian%20Opioid%20Management%20ECHO":MAILTO:echo@pabn.org.au
END:VEVENT
BEGIN:VEVENT
DTSTART;TZID=Australia/Melbourne:20210324T073000
DTEND;TZID=Australia/Melbourne:20210324T083000
DTSTAMP:20210224T131954
CREATED:20210125T100958Z
LAST-MODIFIED:20210201T042800Z
UID:49876-1616571000-1616574600@echo.pabn.org.au
SUMMARY:OAT and Aging
DESCRIPTION:
URL:https://echo.pabn.org.au/teleecho-event/oat-and-aging/
LOCATION:Zoom teleECHO
ORGANIZER;CN="Victorian%20Opioid%20Management%20ECHO":MAILTO:echo@pabn.org.au
END:VEVENT
END:VCALENDAR